Workbook

Sheet Orçamento Resumo
A1: PLANILHA ORÇAMENTÁRIA
A2: TOMADOR: FUNDAÇÃO HOSPITAL MATERNIDADE SÃO CAMILO
A3: OBRA: ALA D (ALA DOUTOR SIXTO) - 3° PAVIMENTO
A4: Referência: TABELA CUSTOS LABOR/CT-UFES PADRÃO DER-ES NÃO DESONERADOS JULHO/2025 | F4: Leis Sociais: 128,33
A5: Local: Aracruz-ES | F5: BDI: 30%
F6: Data Base: Julho/2025
A7: Item | C7: Especificação do Serviço | D7: % | G7: Preço Total | T7: BDI | U7: BDI DIFERENCIADO | V7: Preço s/ BDI | W7: Total sem BDI
A8: '01 | C8: SERVIÇOS PRELIMINARES | D8: =G8/$F$24 -> 0.036115086 | G8: ='Orçamento sintetico '!H8 -> 106127.12 | T8: 0.3 | U8: 0.2 | W8: =SUM(W9:W23) -> 0
A9: '02 | C9: INSTALAÇÃO DO CANTEIRO DE OBRAS | D9: =G9/$F$24 -> 0.031757477 | G9: ='Orçamento sintetico '!H12 -> 93321.93
A10: 03 | C10: TRANSPORTES | D10: =G10/$F$24 -> 0.0054520185 | G10: ='Orçamento sintetico '!H25 -> 16021.2
A11: 04 | C11: PAREDES E PAINÉIS | D11: =G11/$F$24 -> 0.16909325 | G11: ='Orçamento sintetico '!H27 -> 496894.26
A12: 05 | C12: ESQUADRIAS | D12: =G12/$F$24 -> 0.085102105 | G12: ='Orçamento sintetico '!H39 -> 250079.46
A13: 06 | C13: IMPERMEABILIZAÇÃO | D13: =G13/$F$24 -> 0.010210327 | G13: ='Orçamento sintetico '!H53 -> 30003.878
A14: 07 | C14: TETOS E FORROS | D14: =G14/$F$24 -> 0.057826132 | G14: ='Orçamento sintetico '!H56 -> 169926.8
A15: 08 | C15: REVESTIMENTO DE PAREDES | D15: =G15/$F$24 -> 0.071796632 | G15: ='Orçamento sintetico '!H60 -> 210980.25
A16: 09 | C16: PISOS INTERNOS E EXTERNOS | D16: =G16/$F$24 -> 0.1253301 | G16: ='Orçamento sintetico '!H71 -> 368292.7
A17: 10 | C17: INSTALAÇÕES HIDRO-SANITÁRIAS | D17: =G17/$F$24 -> 0.022783953 | G17: ='Orçamento sintetico '!H81 -> 66952.5
A18: 11 | C18: INSTALAÇÕES ELÉTRICAS | D18: =G18/$F$24 -> 0.14002135 | G18: ='Orçamento sintetico '!H97 -> 411464.14
A19: 12 | C19: OUTRAS INSTALAÇÕES | D19: =G19/$F$24 -> 0.061709829 | G19: ='Orçamento sintetico '!H122 -> 181339.35
A20: 13 | C20: APARELHOS HIDRO-SANITÁRIOS | D20: =G20/$F$24 -> 0.06906389 | G20: ='Orçamento sintetico '!H152 -> 202949.86
A21: 14 | C21: APARELHOS ELÉTRICOS | D21: =G21/$F$24 -> 0.025473379 | G21: ='Orçamento sintetico '!H190 -> 74855.596
A22: 15 | C22: PINTURA | D22: =G22/$F$24 -> 0.081575133 | G22: ='Orçamento sintetico '!H206 -> 239715.17
A23: 16 | C23: TRATAMENTO, CONSERVAÇÃO E LIMPEZA | D23: =G23/$F$24 -> 0.00668934 | G23: ='Orçamento sintetico '!H218 -> 19657.17
A24: TOTAL PARCIAL COM BDI | F24: =G23+G22+G21+G20+G19+G18+G17+G16+G15+G14+G13+G12+G11+G10+G9+G8 -> 2938581.4

Sheet Orçamento sintetico 
B1: PLANILHA ORÇAMENTÁRIA
B2: TOMADOR: FUNDAÇÃO HOSPITAL MATERNIDADE SÃO CAMILO
B3: OBRA: ALA D (ALA DOUTOR SIXTO) - 3° PAVIMENTO
B4: Referência: TABELA CUSTOS LABOR/CT-UFES PADRÃO DER-ES NÃO DESONERADOS JULHO/2025 | G4: Leis Sociais: 128,33
B5: Local: Aracruz-ES | G5: BDI: 30%
G6: Data Base: Julho/2025
B7: Item | C7: Fonte/Código | D7: Especificação do Serviço | E7: Und. | F7: Quant. | G7: Preço Unitário | H7: Preço Total | U7: BDI | V7: BDI DIFERENCIADO | W7: Preço s/ BDI | X7: Total sem BDI
B8: '01 | D8: SERVIÇOS PRELIMINARES | H8: =SUM(H9:H11) -> 106127.12 | U8: 0.3 | V8: 0.2 | X8: =SUM(X9:X219) -> 2289894.4
B9: 0101 | D9: Retirada e limpeza do 2º pavimento | E9: vb | F9: 1 | G9: =W9*(1+$U$8) -> 3492.4299 | H9: =F9*G9 -> 3492.4299 | W9: 2686.4845 | X9: =F9*W9 -> 2686.4845
B10: 0102 | D10: MÃO-DE-OBRA - MENSALISTAS
B11: 010201 | D11: Administração local, considerando engenheiro júnior, almoxarife, mestre de obras sênior | E11: vb | F11: 1 | G11: =W11*(1+$U$8) -> 102634.69 | H11: =F11*G11 -> 102634.69 | W11: 78949.76 | X11: =F11*W11 -> 78949.76
B12: '02 | D12: INSTALAÇÃO DO CANTEIRO DE OBRAS | H12: =SUM(H13:H24) -> 93321.93
B13: 0201 | D13: TAPUMES, BARRACÕES E COBERTURAS
B14: 020101 | C14: LABOR - 2024 - 020305 - 1 | D14: Placa de obra nas dimensões de 2.0 x 4.0 m, padrão DER | E14: m2 | F14: 8 | G14: =W14*(1+$U$8) -> 377.754 | H14: =F14*G14 -> 3022.032 | W14: 290.58 | X14: =F14*W14 -> 2324.64
B15: 020102 | C15: LABOR - 2024 - 020339 - 1 | D15: Locação de andaime metálico (aluguel de 1 m² por 1 mês) inclusive frete, montagem e desmontagem | E15: m2 | F15: 200 | G15: =W15*(1+$U$8) -> 26.702 | H15: =F15*G15 -> 5340.4 | W15: 20.54 | X15: =F15*W15 -> 4108
B16: 020103 | C16: LABOR - 2024 - 020344 - 1 | D16: Mobilização e desmobilização de conteiner locado para barracão de obra | E16: und | F16: 5 | G16: =W16*(1+$U$8) -> 2166.671 | H16: =F16*G16 -> 10833.355 | W16: 1666.67 | X16: =F16*W16 -> 8333.35
B17: 020104 | C17: LABOR - 2024 - 020348 - 1 | D17: Fornecimento e instalação de proteção para andaime fachadeiro considerando plataforma, rodapé e guarda-corpo em madeira, inclusive entelamento, conforme NR-18 (medido por m2 de fachada) | E17: m2 | F17: 200 | G17: =W17*(1+$U$8) -> 36.686 | H17: =F17*G17 -> 7337.2 | W17: 28.22 | X17: =F17*W17 -> 5644
B18: 020105 | C18: LABOR - 2024 - 020350 - 1 | D18: Tapume Telha Metálica Ondulada em aço galvalume 0,50mm Branca h=2,20m, incl. montagem estr. mad. 8"x8", c/adesivo da construtora 60x60cm a cada 10m, incl. faixas pint. esmalte sint. cores azul c/ h=30cm e rosa c/ h=10cm (Reaproveitamento 2x) | E18: m | F18: 50 | G18: =W18*(1+$U$8) -> 184.106 | H18: =F18*G18 -> 9205.3 | W18: 141.62 | X18: =F18*W18 -> 7081
B19: 020106 | C19: LABOR - 2024 - 020352 - 1 | D19: Aluguel mensal container para escritório, dim. 6.00x2.40m, c/ banheiro (vaso+lavat+chuveiro e básc), incl. porta, 2 janelas, abert p/ ar cond., 2 pt iluminação, 2 tom. elét. e 1 tom.telef. Isolam.térmico(teto e paredes), piso em comp. Naval, cert. NR18, incl. laudo descontaminação. | E19: ms | F19: 8 | G19: =W19*(1+$U$8) -> 1598.22 | H19: =F19*G19 -> 12785.76 | W19: 1229.4 | X19: =F19*W19 -> 9835.2
B20: 020107 | C20: LABOR - 2024 - 020353 - 1 | D20: Aluguel mensal container para refeitorio, incl. porta, 2 janelas, abert p/ ar cond., 2 pt iluminação, 2 tomadas elét. e 1 tomada telef. Isolamento térmico (paredes e teto), piso em comp. Naval pintado, cert. NR18, incl. laudo descontaminação. | E20: ms | F20: 8 | G20: =W20*(1+$U$8) -> 1581.021 | H20: =F20*G20 -> 12648.168 | W20: 1216.17 | X20: =F20*W20 -> 9729.36
B21: 020108 | C21: LABOR - 2024 - 020354 - 1 | D21: Aluguel mensal container para vestiário, incl. porta, venezianas de circulação, 1 pt iluminação, Isolamento térmico (teto), piso em comp. Naval pintado, cert. NR18, incl. laudo descontaminação. | E21: ms | F21: 8 | G21: =W21*(1+$U$8) -> 1000.025 | H21: =F21*G21 -> 8000.2 | W21: 769.25 | X21: =F21*W21 -> 6154
B22: 020109 | C22: LABOR - 2024 - 020355 - 1 | D22: Aluguel mensal container sanitário, incl porta, básc, 2 ptos luz, 1 pto aterram., 3vasos, 3lavatórios, calha mictório, 6 chuveiros (1 eletrico), torn.,registros, piso comp. Naval pintado, cert NR18 e laudo descontaminação | E22: ms | F22: 8 | G22: =W22*(1+$U$8) -> 1624.22 | H22: =F22*G22 -> 12993.76 | W22: 1249.4 | X22: =F22*W22 -> 9995.2
B23: 020110 | C23: LABOR - 2024 - 020356 - 1 | D23: Aluguel mensal container para almoxarifado, incl. porta, 2 janelas, 1 pt iluminação, Isolamento térmico (teto), piso em comp. Naval pintado, cert. NR18, incl. laudo descontaminação. | E23: ms | F23: 8 | G23: =W23*(1+$U$8) -> 1188.525 | H23: =F23*G23 -> 9508.2 | W23: 914.25 | X23: =F23*W23 -> 7314
B24: 020111 | C24: LABOR - 2024 - 020811 - 1 | D24: Reservatório de poliestileno de 1000 L, inclusive suporte em madeira de 7x12cm e 5x7cm, elevado de 4m, conforme projeto (2 utilizações) | E24: und | F24: 1 | G24: =W24*(1+$U$8) -> 1647.555 | H24: =F24*G24 -> 1647.555 | W24: 1267.35 | X24: =F24*W24 -> 1267.35
B25: 03 | D25: TRANSPORTES | H25: =SUM(H26) -> 16021.2
B26: 0301 | C26: LABOR - 2024 - 030304 - 1 | D26: Índice de preço para remoção de entulho decorrente da execução de obras (Classe A CONAMA - NBR 10.004 - Classe II-B), incluindo aluguel da caçamba, carga, transporte e descarga em área licenciada | E26: m3 | F26: 150 | G26: =W26*(1+$U$8) -> 106.808 | H26: =F26*G26 -> 16021.2 | W26: 82.16 | X26: =F26*W26 -> 12324
B27: 04 | D27: PAREDES E PAINÉIS | H27: =SUM(H28:H38) -> 496894.26
B28: 0401 | D28: PLACAS E PAINÉIS DIVISÓRIOS
B29: 040101 | C29: Referência Utilizada LABOR - 2024 - 050205 - 4 | D29: Divisória sanitária de granito Branco Siena, esp. 3 cm, assentada com argamassa de cimento e areia no traço 1:3 | E29: m2 | F29: 53.97 | G29: =W29*(1+$U$8) -> 887.419 | H29: =F29*G29 -> 47894.003 | W29: 682.63 | X29: =F29*W29 -> 36841.541
B30: 0402 | D30: ALVENARIA DE VEDAÇÃO EMPREGANDO ARGAMASSA DE CIMENTO, CAL E AREIA
B31: 040201 | C31: LABOR - 2024 - 050601 - 2 | D31: Alvenaria de vedação com blocos de concreto 9x19x39cm, c/ resistência mínimo a compressão de 3 MPa, assentados c/ argamassa de cimento, cal hidratada CH1 e areia no traço 1:0,5:8, preparo com betoneira, esp. juntas 10mm e esp. da parede s/ revestimento 9cm | E31: m2 | F31: 25.575 | G31: =W31*(1+$U$8) -> 92.443 | H31: =F31*G31 -> 2364.2297 | W31: 71.11 | X31: =F31*W31 -> 1818.6382
B32: 0403 | D32: ALVENARIA DE DRYWALL COM ISOLAMENTO ACÚSTICO
B33: 040301 | C33: COTAÇÃO | D33: Alvenaria em DryWall, duas faces, preenchimento com lá de vidro, esp=7 cm, para áreas secas ST/LÃ/ST | E33: m2 | F33: 1134.393 | G33: =W33*(1+$U$8) -> 176.49458 | H33: =F33*G33 -> 200214.21 | W33: 135.76506 | X33: =F33*W33 -> 154010.93
B34: 040302 | C34: COTAÇÃO | D34: Alvenaria em DryWall, duas faces, preenchimento com lá de vidro, esp=7 cm, para áreas secas molhadas ST/LÃ/RU | E34: m2 | F34: 881.496 | G34: =W34*(1+$U$8) -> 184.4195 | H34: =F34*G34 -> 162565.05 | W34: 141.86115 | X34: =F34*W34 -> 125050.04
B35: 040303 | C35: COTAÇÃO | D35: Alvenaria em DryWall, duas faces, preenchimento com lá de vidro, esp=7 cm, para áreas molhadas RU/LÃ/RU | E35: m2 | F35: 173.811 | G35: =W35*(1+$U$8) -> 192.34137 | H35: =F35*G35 -> 33431.046 | W35: 147.9549 | X35: =F35*W35 -> 25716.189
B36: 040304 | C36: COTAÇÃO | D36: Alvenaria em DryWall, duas faces, preenchimento com lá de vidro, esp=7 cm, para áreas resistente a fogo RF/LÃ/RF | E36: m2 | F36: 75.05 | G36: =W36*(1+$U$8) -> 192.34137 | H36: =F36*G36 -> 14435.22 | W36: 147.9549 | X36: =F36*W36 -> 11104.015
B38: 040305 | C38: COTAÇÃO | D38: Fornecimento de placa OSB, espessura de 11mm, para reforço em parede Drywall, para instalação de bancadas de granito (45x60xm) | E38: und | F38: 224 | G38: =W38*(1+$U$8) -> 160.67188 | H38: =F38*G38 -> 35990.5 | W38: 123.59375 | X38: =F38*W38 -> 27685
B39: 05 | D39: ESQUADRIAS | H39: =SUM(H40:H52) -> 250079.46
B40: 0501 | D40: ESQUADRIAS DE MADEIRA - PORTAS SISTEMA KIT PORTA-PRONTA
B41: 050101 | C41: COTAÇÃO | D41: Porta Pronta (KIT) de madeira lisa, de abrir, com batente e guarnição, cor branca, fechadura externa cromada tipo Yale ref Pado/Imab/Papaiz ou equiv e dobradiças 3,0x2,5" cromada, instalada com espuma expansiva, dimensões: 0,60 x 2,10 m (P6) | E41: und | F41: 3 | G41: =W41*(1+$U$8) -> 2155.5564 | H41: =F41*G41 -> 6466.6691 | W41: 1658.1203 | X41: =F41*W41 -> 4974.3608
...

Sheet Cronograma fisico financeiro
A1: PLANILHA ORÇAMENTÁRIA | D1: CRONOGRAMA FISICO E FINANCEIRO
A2: TOMADOR: FUNDAÇÃO HOSPITAL MATERNIDADE SÃO CAMILO
A3: OBRA: ALA D (ALA DOUTOR SIXTO) - 3° PAVIMENTO
A4: Referência: TABELA CUSTOS LABOR/CT-UFES PADRÃO DER-ES NÃO DESONERADOS JULHO/2025 | C4: Leis Sociais: 128,33
A5: Local: Aracruz-ES | C5: BDI: 30%
C6: Data Base: Julho/2025
A7: Item | B7: Especificação do Serviço | C7: Preço Total | D7: % | E7: MÊS 01 | F7: MÊS 02 | G7: MÊS 03 | H7: MÊS 04 | I7: MÊS 05 | J7: MÊS 06 | K7: MÊS 07 | L7: MÊS 08
A8: '01 | B8: SERVIÇOS PRELIMINARES | C8: ='Orçamento sintetico '!H8 -> 106127.12 | D8: =SUM(E8:L8) -> 1 | E8: =1/8 -> 0.125 | F8: =1/8 -> 0.125 | G8: =1/8 -> 0.125 | H8: =1/8 -> 0.125 | I8: =1/8 -> 0.125 | J8: =1/8 -> 0.125 | K8: =1/8 -> 0.125 | L8: =1/8 -> 0.125
E9: =$C$8*E8 -> 13265.89 | F9: =$C$8*F8 -> 13265.89 | G9: =$C$8*G8 -> 13265.89 | H9: =$C$8*H8 -> 13265.89 | I9: =$C$8*I8 -> 13265.89 | J9: =$C$8*J8 -> 13265.89 | K9: =$C$8*K8 -> 13265.89 | L9: =$C$8*L8 -> 13265.89
A10: '02 | B10: INSTALAÇÃO DO CANTEIRO DE OBRAS | C10: ='Orçamento sintetico '!H12 -> 93321.93 | D10: =SUM(E10:L10) -> 1 | E10: 1
E11: =C10*E10 -> 93321.93
A12: 03 | B12: TRANSPORTES | C12: ='Orçamento sintetico '!H25 -> 16021.2 | D12: =SUM(E12:L12) -> 1 | E12: =1/8 -> 0.125 | F12: =1/8 -> 0.125 | G12: =1/8 -> 0.125 | H12: =1/8 -> 0.125 | I12: =1/8 -> 0.125 | J12: =1/8 -> 0.125 | K12: =1/8 -> 0.125 | L12: =1/8 -> 0.125
E13: =$C$12*E12 -> 2002.65 | F13: =$C$12*F12 -> 2002.65 | G13: =$C$12*G12 -> 2002.65 | H13: =$C$12*H12 -> 2002.65 | I13: =$C$12*I12 -> 2002.65 | J13: =$C$12*J12 -> 2002.65 | K13: =$C$12*K12 -> 2002.65 | L13: =$C$12*L12 -> 2002.65
A14: 04 | B14: PAREDES E PAINÉIS | C14: ='Orçamento sintetico '!H27 -> 496894.26 | D14: =SUM(E14:L14) -> 1 | E14: 0.2 | F14: 0.2 | G14: 0.2 | H14: 0.4
E15: =$C$14*E14 -> 99378.852 | F15: =$C$14*F14 -> 99378.852 | G15: =$C$14*G14 -> 99378.852 | H15: =$C$14*H14 -> 198757.7
A16: 05 | B16: ESQUADRIAS | C16: ='Orçamento sintetico '!H39 -> 250079.46 | D16: =SUM(E16:L16) -> 1 | I16: 0.4 | J16: 0.6
I17: =$C$16*I16 -> 100031.78 | J17: =$C$16*J16 -> 150047.68
A18: 06 | B18: IMPERMEABILIZAÇÃO | C18: ='Orçamento sintetico '!H53 -> 30003.878 | D18: =SUM(E18:L18) -> 1 | I18: 0.5 | J18: 0.5
I19: =$C$18*I18 -> 15001.939 | J19: =$C$18*J18 -> 15001.939
A20: 07 | B20: TETOS E FORROS | C20: ='Orçamento sintetico '!H56 -> 169926.8 | D20: =SUM(E20:L20) -> 1 | H20: 0.4 | I20: 0.4 | J20: 0.2
H21: =$C$20*H20 -> 67970.718 | I21: =$C$20*I20 -> 67970.718 | J21: =$C$20*J20 -> 33985.359
A22: 08 | B22: REVESTIMENTO DE PAREDES | C22: ='Orçamento sintetico '!H60 -> 210980.25 | D22: =SUM(E22:L22) -> 1 | G22: 0.2 | H22: 0.4 | I22: 0.4
G23: =$C$22*G22 -> 42196.049 | H23: =$C$22*H22 -> 84392.098 | I23: =$C$22*I22 -> 84392.098
A24: 09 | B24: PISOS INTERNOS E EXTERNOS | C24: ='Orçamento sintetico '!H71 -> 368292.7 | D24: =SUM(E24:L24) -> 1 | H24: 0.2 | I24: 0.2 | J24: 0.2 | K24: 0.2 | L24: 0.2
H25: =$C$24*H24 -> 73658.539 | I25: =$C$24*I24 -> 73658.539 | J25: =$C$24*J24 -> 73658.539 | K25: =$C$24*K24 -> 73658.539 | L25: =$C$24*L24 -> 73658.539
A26: 10 | B26: INSTALAÇÕES HIDRO-SANITÁRIAS | C26: ='Orçamento sintetico '!H81 -> 66952.5 | D26: =SUM(E26:L26) -> 1 | F26: 0.4 | G26: 0.6
F27: =$C$26*F26 -> 26781 | G27: =$C$26*G26 -> 40171.5
A28: 11 | B28: INSTALAÇÕES ELÉTRICAS | C28: ='Orçamento sintetico '!H97 -> 411464.14 | D28: =SUM(E28:L28) -> 1 | E28: =1/8 -> 0.125 | F28: =1/8 -> 0.125 | G28: =1/8 -> 0.125 | H28: =1/8 -> 0.125 | I28: =1/8 -> 0.125 | J28: =1/8 -> 0.125 | K28: =1/8 -> 0.125 | L28: =1/8 -> 0.125
E29: =$C$28*E28 -> 51433.018 | F29: =$C$28*F28 -> 51433.018 | G29: =$C$28*G28 -> 51433.018 | H29: =$C$28*H28 -> 51433.018 | I29: =$C$28*I28 -> 51433.018 | J29: =$C$28*J28 -> 51433.018 | K29: =$C$28*K28 -> 51433.018 | L29: =$C$28*L28 -> 51433.018
A30: 12 | B30: OUTRAS INSTALAÇÕES | C30: ='Orçamento sintetico '!H122 -> 181339.35 | D30: =SUM(E30:L30) -> 1 | J30: 0.4 | K30: 0.4 | L30: 0.2
J31: =$C$30*J30 -> 72535.741 | K31: =$C$30*K30 -> 72535.741 | L31: =$C$30*L30 -> 36267.87
A32: 13 | B32: APARELHOS HIDRO-SANITÁRIOS | C32: ='Orçamento sintetico '!H152 -> 202949.86 | D32: =SUM(E32:L32) -> 1 | K32: 0.4 | L32: 0.6
K33: =$C$32*K32 -> 81179.944 | L33: =$C$32*L32 -> 121769.92
A34: 14 | B34: APARELHOS ELÉTRICOS | C34: ='Orçamento sintetico '!H190 -> 74855.596 | D34: =SUM(E34:L34) -> 1 | K34: 0.4 | L34: 0.6
K35: =$C$34*K34 -> 29942.238 | L35: =$C$34*L34 -> 44913.357
A36: 15 | B36: PINTURA | C36: ='Orçamento sintetico '!H206 -> 239715.17 | D36: =SUM(E36:L36) -> 1 | J36: 0.3 | K36: 0.4 | L36: 0.3
J37: =$C$36*J36 -> 71914.55 | K37: =$C$36*K36 -> 95886.066 | L37: =$C$36*L36 -> 71914.55
A38: 16 | B38: TRATAMENTO, CONSERVAÇÃO E LIMPEZA | C38: ='Orçamento sintetico '!H218 -> 19657.17 | D38: =SUM(E38:L38) -> 1 | E38: =1/8 -> 0.125 | F38: =1/8 -> 0.125 | G38: =1/8 -> 0.125 | H38: =1/8 -> 0.125 | I38: =1/8 -> 0.125 | J38: =1/8 -> 0.125 | K38: =1/8 -> 0.125 | L38: =1/8 -> 0.125
E39: =$C$38*E38 -> 2457.1462 | F39: =$C$38*F38 -> 2457.1462 | G39: =$C$38*G38 -> 2457.1462 | H39: =$C$38*H38 -> 2457.1462 | I39: =$C$38*I38 -> 2457.1462 | J39: =$C$38*J38 -> 2457.1462 | K39: =$C$38*K38 -> 2457.1462 | L39: =$C$38*L38 -> 2457.1462
A40: TOTAL | C40: =SUM(C8:C39) -> 2938581.4
...
